BEGIN:VCALENDAR
VERSION:2.0
PRODID:-//https://protraininc.com///NONSGML kigkonsult.se iCalcreator 2.10.15//
METHOD:PUBLISH
BEGIN:VEVENT
UID:20260424T133324UTC-4310B83j0z@https://protraininc.com/
DTSTAMP:20260424T133324Z
DESCRIPTION:About this course\n “The first and best victory is to conquer s
 elf.” —Plato\nCourse Overview Tragically\, officers are being ambushed at 
 record levels throughout the United States.&nbsp\; Ambush assaults on law 
 enforcement have escalated by over 165% since 2016.&nbsp\; We have to teac
 h our officers to recognize and overcome these threats.&nbsp\; The Police 
 Counter Ambush Assault Course will challenge officers through force-on-for
 ce scenarios to overcome threats while deploying from a patrol vehicle\, s
 eated inside a patrol vehicle\, and in close-quarters scenarios with other
  potential threats. The potential impact of this course on officer safety 
 is significant.&nbsp\; We have to be prepared to overcome and dominate the
 se ambushes.&nbsp\; This course will dramatically increase the officer’s a
 bility to win the assault and return home safely to their family.\nWhat wi
 ll the student learn?\n\nEnvironment and bystander awareness (terrain conc
 erns and escape avenues)\, controlling space.\nHow to escape from Ambush P
 ositions.\nProper placement of violator(s) and backup units.\nCase law per
 tinent to police use of force vehicle stops.\n\nWhat will the student be r
 equired to do?\n\nMake shoot or don’t shoot decisions while overcoming fat
 igue and a stressful training atmosphere.\nFight through being attacked by
  single and multiple opponents in a dynamic and realistic scenario for pol
 ice officers.\nIn dynamic and realistic scenario-based training\, officers
  will be subjected to fighting and shooting airsoft force-on-force drills.
 \nThink outside the box and consider multiple threats at once.&nbsp\;This 
 training method simulates a continually evolving high-stress situation in 
 the real world.\nAccurately examine their mindset and identify areas where
  they have begun to lose ground physically and psychologically.&nbsp\; The
 y will be pushed to their mental and physical limits.\nSuccessfully addres
 s threat(s)\, gain compliance or control\, and maintain situational awaren
 ess and mental clarity during these practical exams.\nThis course is a han
 ds-on outdoor activity designed to keep the students engaged and intereste
 d in learning concepts that will enhance their ability to identify the cri
 minal element\, quickly identify it\, and be prepared if a lethal force en
 counter occurs.\n\nCourse Breakdown\nTrain Hard * Train to Win\nCourse Int
 ensity This course is very high-level intensity and will challenge the stu
 dent to consider their personal\, physical\, and psychological vulnerabili
 ty and then adapt to and overcome any adversity or threat they are approac
 hing.\nPhysically DemandingPolice Counter Ambush is a tactical course requ
 iring high levels of physical exertion.&nbsp\; This course will leave you 
 dirty\, exhausted\, and ultimately fired up about what you just completed!
 \nMentally Challenging This course will challenge the student to fight phy
 sically and mentally without quitting during scenarios that may feel too i
 ntense or overwhelming.&nbsp\; They will use techniques and mental mindset
 s to expand their understanding of tactical counters to life-threatening s
 ituations.\nCore Building\nIf implemented as instructed\, the student will
  be given proven techniques to counter assaults that mentally and physical
 ly prepare them for victory in battle.\n\nStudent Take Away\n\nA greater u
 nderstanding of strategies and tactics to counter potential ambush assault
 s.\nDevelop core techniques to identify\, improve\, and master tactical sk
 ills\, leaving the officer mentally and physically prepared to counter amb
 ush assault situations.\nProven survival training that instills a tactical
  mindset and fundamentals into a realistic and dynamic course for successf
 ully applying these strategies to real-world police encounters.\n\nCourse 
 Accreditation/Certification/Completion\n\nThe student will receive a cours
 e completion certificate after successfully completing the class. \n\nCour
 se Hours\n\n(1 day) 7-hour course.\nNo Re-certification is required.\n\nRe
 quired Course Equipment\nAttending students will need to be enrolled indiv
 idually and online.&nbsp\; The student must provide proof of employment by
  credentials\, work-verified email\, or authorization from their agency’s 
 training coordinator.&nbsp\; All students must be on duty and not forced t
 o attend the training course.&nbsp\; Students will be required to complete
  several liability waivers.\nStudents are required to bring the following 
 equipment with them to class.\n\nDuty positioning of their weapon\, either
  full belt or side holster\, must be what they wear daily. &nbsp\;This tra
 ining is for how they encounter assailants daily\, so uniform of the day (
 weapon placement only) is required. &nbsp\;\nBulletproof Vest\nOSHA-approv
 ed Eye and ear protection. &nbsp\;&nbsp\;\n\n**No live weapons\, chemical 
 agents\, or intermediate weapons are allowed in the training area before i
 nspection and clearance by the range safety instructor** https://protraini
 nc.com/enroll/tactical-course/event/388-police-counter-ambush-airsoft-sims
 -danville-police-department-pca2025-02
DTSTART:20250807T080000Z
DTEND:20250807T160000Z
LOCATION:Danville\, IN (Tactical Course Location) RANGE LOCATION (124 E Twi
 n Bridges Rd\, Danville\, IN 46122)
SUMMARY:Police Counter Ambush - Airsoft/Sims\, Danville Police Department- 
 PCA2025-02
URL:https://protraininc.com/enroll/tactical-course/event/388-police-counter
 -ambush-airsoft-sims-danville-police-department-pca2025-02
END:VEVENT
END:VCALENDAR
